BEGIN:VCALENDAR
VERSION:2.0
PRODID:-//Niezła sztuka - newsy - ECPv5.16.1//NONSGML v1.0//EN
CALSCALE:GREGORIAN
METHOD:PUBLISH
X-WR-CALNAME:Niezła sztuka - newsy
X-ORIGINAL-URL:https://news.niezlasztuka.net
X-WR-CALDESC:Wydarzenia dla Niezła sztuka - newsy
BEGIN:VTIMEZONE
TZID:Europe/Warsaw
BEGIN:DAYLIGHT
TZOFFSETFROM:+0100
TZOFFSETTO:+0200
TZNAME:CEST
DTSTART:20200329T010000
END:DAYLIGHT
BEGIN:STANDARD
TZOFFSETFROM:+0200
TZOFFSETTO:+0100
TZNAME:CET
DTSTART:20201025T010000
END:STANDARD
END:VTIMEZONE
BEGIN:VEVENT
DTSTART;VALUE=DATE:20200214
DTEND;VALUE=DATE:20200307
DTSTAMP:20260420T050307
CREATED:20200210T145812Z
LAST-MODIFIED:20200415T111541Z
UID:13001-1581638400-1583539199@news.niezlasztuka.net
SUMMARY:Agnieszka Andruszkiewicz. Forma papieru prowadzi mnie...
DESCRIPTION:Agnieszki Andruszkiewicz. Forma papieru prowadzi mnie…\nwernisaż: 14 lutego\, godz. 18:00\nwystawa: 14.02 – 06.03.2020\n Biuro Wystaw Artystycznych w Kielcach\nwięcej informacji » \nNa wystawie artystka zaprezentuje obiekty z papieru\, zarówno płaskie\, jak i trójwymiarowe. O swojej pracy Agnieszka Andruszkiewicz pisze tak: \n„Poszukuję w papierze możliwości urzeczywistnienia swoich myśli\, w zgodzie ze słowami Wassilego Kandinsky’ego: „Forma jest tylko zewnętrznym wyrazem wewnętrznych treści dzieła”. Wchodzę w relację z różnymi rodzajami papieru i szukam form jego wypowiedzi. Pracuję między innymi z bibułką tytoniową\, papierem parafinowanym\, papierem szarym – niebielonym\, wytwarzam również samodzielnie papier czerpany barwiony w masie i z niego tworzę nowe jakości. Wszystko dzieje się dzięki papierowi i czasowi z nim spędzonemu. A to wciąż inspirujące mnie towarzystwo. Papier stał się narzędziem wypowiedzi\, śladem świata niematerialnego w świecie materialnym. Nie można byłoby osiągnąć bez niego celu\, którym jest opakowanie zamysłu i wyobraźni autorki”. \n\n				\n					\n				\n				\n					\n				\n				\n					\n				\n\nAgnieszka Andruszkiewicz – artystka i projektantka urodzona w Głownie\, obecnie mieszka i tworzy w Łodzi. Absolwentka Państwowego Liceum Sztuk Plastycznych im. Tadeusza Makowskiego w Łodzi\, Instytutu Papiernictwa i Poligrafii Politechniki Łódzkiej (magister inżynier). W 2017 roku obroniła doktorat w Akademii Sztuk Pięknych im. Jana Matejki w Krakowie z zakresu sztuk projektowych. W latach 2009-2017 związana z Wyższą Szkoła Sztuki i Projektowania w Łodzi\, obecnie prowadzi autorskie zajęcia w Akademii Sztuki w Szczecinie w Laboratorium technologii papieru i opakowań. \nWszechstronne i różnorodne doświadczenia artystyczne i zawodowe zdobywała m.in. podczas pracy naukowej na Politechnice Łódzkiej oraz w przemyśle papierniczym\, swoją przyszłość wiąże z projektowaniem przedmiotów użytkowych o dużych walorach estetycznych oraz z pracą dydaktyczną. \nUczestniczka 12. Ogólnopolskiej Wystawy Tkaniny Unikatowej i 10. Ogólnopolskiej Wystawy Miniatury Tkackiej towarzyszących 14. Międzynarodowemu Triennale Tkaniny w Łodzi w 2013 roku. Z ekspozycji indywidualnych do najważniejszych należą: „Fotografia” w Muzeum Regionalnym w Głownie (1997)\, „Makulatura surowiec XXI wieku” w Muzeum Papiernictwa w Dusznikach Zdroju (2001)\, „Papier czerpany” w Galerii Starej w Łodzi (2005)\, „Dialog” wystawa towarzysząca 6. edycji Festiwalu Dialogu Czterech Kultur w Łodzi (2007)\, „Zaklęte w papierze” w Galerii Exlibrisu w Warszawie (2008)\, „Zza parawanu…” w Muzeum Regionalnym w Głownie\, „Made in Głowno” w Bank&DM w Głownie (2015\, 2016)\, „Mokra robota” w Teatrze Lalek Arlekin w Łodzi (2016)\, Papier łączy” w Biblio-Art PŁ (2018)\, „Papierki\, papier\, papierzyska” Stara Drukarnia w Łodzi (2019). \nPrace Agnieszki Andruszkiewicz znajdują się w zbiorach m.in. Centralnego Muzeum Włókiennictwa w Łodzi\, Muzeum Papiernictwa w Dusznikach Zdroju\, Instytucie Papiernictwa i Poligrafii Politechniki Łódzkiej\, Drukarnia Center w Łodzi oraz w kolekcjach prywatnych.\n/Monika Nowakowska
URL:https://news.niezlasztuka.net/event/agnieszka-andruszkiewicz-forma-papieru-prowadzi/
LOCATION:BWA Kielce\, ul. Kapitulna 2\, Kielce\, 25-011\, Polska
ATTACH;FMTTYPE=image/jpeg:https://news.niezlasztuka.net/wp-content/uploads/2020/02/agnieszka-andruszkiewicz-papier2.jpg
GEO:50.8705039;20.627665
X-APPLE-STRUCTURED-LOCATION;VALUE=URI;X-ADDRESS=BWA Kielce ul. Kapitulna 2 Kielce 25-011 Polska;X-APPLE-RADIUS=500;X-TITLE=ul. Kapitulna 2:geo:20.627665,50.8705039
END:VEVENT
END:VCALENDAR