BEGIN:VCALENDAR
VERSION:2.0
PRODID:-//Niezła sztuka - newsy - ECPv5.16.1//NONSGML v1.0//EN
CALSCALE:GREGORIAN
METHOD:PUBLISH
X-WR-CALNAME:Niezła sztuka - newsy
X-ORIGINAL-URL:https://news.niezlasztuka.net
X-WR-CALDESC:Wydarzenia dla Niezła sztuka - newsy
BEGIN:VTIMEZONE
TZID:Europe/Warsaw
BEGIN:DAYLIGHT
TZOFFSETFROM:+0100
TZOFFSETTO:+0200
TZNAME:CEST
DTSTART:20210328T010000
END:DAYLIGHT
BEGIN:STANDARD
TZOFFSETFROM:+0200
TZOFFSETTO:+0100
TZNAME:CET
DTSTART:20211031T010000
END:STANDARD
END:VTIMEZONE
BEGIN:VEVENT
DTSTART;VALUE=DATE:20211007
DTEND;VALUE=DATE:20211108
DTSTAMP:20260421T174349
CREATED:20210922T143058Z
LAST-MODIFIED:20211012T142001Z
UID:17095-1633564800-1636329599@news.niezlasztuka.net
SUMMARY:Wajda na nowo. Wystawa plakatów Andrzeja Pągowskiego
DESCRIPTION:Wajda na nowo.\nWystawa plakatów Andrzeja Pągowskiego\n7.10 – 7.11.2021\nMuzeum Kinematografii w Łodzi \n \n\nOd 8 października 2021 zapraszamy na wystawę czasową plakatów Andrzeja Pągowskiego „Wajda na nowo” w Muzeum Kinematografii w Łodzi. \nAby uczcić\, przypadające w 2021 roku\, 95. rocznicę urodzin i 5. rocznicę śmierci Andrzeja Wajdy\, mistrza polskiej kinematografii\, Andrzej Pągowski stworzył plakaty do wszystkich 60 filmów reżysera – zarówno fabularnych jak i dokumentalnych. „Wajda na nowo”\, to sentymentalna podróż po filmowych dziełach\, które na stałe zapisały się w świadomości widzów. \n\n				\n					\n				\n					\n						\n						©Andrzej Pągowski\, Panny z wilka\n						 \n					\n				\n					\n				\n					\n						\n						©Andrzej Pągowski\, Kanał\n						 \n					\n				\n					\n				\n					\n						\n						©Andrzej Pągowski\, Powidoki\n						 \n					\n\nAndrzej Pągowski – absolwent PWSSP w Poznaniu\, Wydział Plakatu\, dyplom u prof. Waldemara Świerzego. Autor ponad 1500 plakatów wydanych drukiem od 1977 roku w Polsce i za granicą. Ponadto zajmuje się ilustracją książkową i prasową\, jest autorem okładek wydawnictw płytowych\, scenografii teatralnych i telewizyjnych\, scenariuszy filmów i teledysków.
URL:https://news.niezlasztuka.net/event/andrzej-pagowski-wajda-na-nowo-wystawa-plakatow-lodz/
LOCATION:Muzeum Kinematografii w Łodzi\, pl. Zwycięstwa 1\, Łódź\, 90-312\, Polska
ATTACH;FMTTYPE=image/jpeg:https://news.niezlasztuka.net/wp-content/uploads/2021/09/wajda-na-nowo-andrzej-pagowski-ico.jpg
GEO:51.7596813;19.4742118
X-APPLE-STRUCTURED-LOCATION;VALUE=URI;X-ADDRESS=Muzeum Kinematografii w Łodzi pl. Zwycięstwa 1 Łódź 90-312 Polska;X-APPLE-RADIUS=500;X-TITLE=pl. Zwycięstwa 1:geo:19.4742118,51.7596813
END:VEVENT
END:VCALENDAR