BEGIN:VCALENDAR
VERSION:2.0
PRODID:-//Niezła sztuka - newsy - ECPv5.16.1//NONSGML v1.0//EN
CALSCALE:GREGORIAN
METHOD:PUBLISH
X-WR-CALNAME:Niezła sztuka - newsy
X-ORIGINAL-URL:https://news.niezlasztuka.net
X-WR-CALDESC:Wydarzenia dla Niezła sztuka - newsy
BEGIN:VTIMEZONE
TZID:Europe/Warsaw
BEGIN:DAYLIGHT
TZOFFSETFROM:+0100
TZOFFSETTO:+0200
TZNAME:CEST
DTSTART:20220327T010000
END:DAYLIGHT
BEGIN:STANDARD
TZOFFSETFROM:+0200
TZOFFSETTO:+0100
TZNAME:CET
DTSTART:20221030T010000
END:STANDARD
END:VTIMEZONE
BEGIN:VEVENT
DTSTART;VALUE=DATE:20220408
DTEND;VALUE=DATE:20220516
DTSTAMP:20260423T132412
CREATED:20220424T110219Z
LAST-MODIFIED:20220424T110219Z
UID:18355-1649376000-1652659199@news.niezlasztuka.net
SUMMARY:Andrzej Ziółkowski. The inward moment. Człowiek wobec sacrum
DESCRIPTION:Andrzej Ziółkowski.\n The inward moment. Człowiek wobec sacrum \n08 kwietnia 2022 r. – 15 maja 2022 r.\n Galeria Bielska BWA \nAndrzej Ziółkowski\, Muzułmanka przy grobowcu świętego sufickiego Sayyeda Alego Mira Datara |2017\, Unava\, Indie\nFotograficzna opowieść o duchowości i uniwersalnym poszukiwaniu sacrum w praktykach wyznawców siedmiu wielkich religii. \nWystawa fotografii Andrzeja Ziółkowskiego oraz wydany wcześniej album zawierający 150 fotografii „The Inward Moment. Człowiek wobec sacrum”\, są niezwykłą podróżą po Azji Południowo-Wschodniej. Autor\, zafascynowany dziełem angielskiego benedyktyna Bede Griffithsa\, wtopił się w atmosferę obrzędów religijnych\, aby opowiedzieć o duchowości ludzi różnych wyznań. Bede Griffiths był przekonany\, że jeżeli uda nam się dotrzeć w każdej religii do tego\, co jest jej mistycznym sednem\, wówczas zewnętrzne różnice przestaną nas dzielić i spotkamy się w miejscu\, które jest dla nas wspólne. \nAndrzej Ziółkowski\, Przygotowywanie posiłku dla pielgrzymów | 2017\, Gurudwara Sri Bhath Sahib\, Patti\, Indie\nAndrzej Ziółkowski:\nCzęsto słyszę pytanie\, jak określiłbym moje fotografowanie. Myślę\, że słowem kluczem jest tu duchowa „intymność”. Pozwalam sobie określić te fotografie jako The Inward Moment (Wewnętrzny moment) – idąc w ślady wielkich mistrzów fotografii\, którzy używali słowa „moment”\, by opisać swoje zdjęcia. Pierwszy był Henri Cartier-Bresson\, który w 1952 roku zatytułował swą kultową monografię The Decisive Moment (Decydujący moment). Steve McCurry w swoich publikacjach używa określenia The Unguarded Moment (Moment bezbronności)\, a Geoff Dyer zatytułował swoją książkę\, opisującą zdjęcia sławnych fotoreporterów\, The Ongoing Moment (Nieprzerwany moment). Fotografując\, starałem się uchwycić jednocześnie moment bezbronności i intymności duchowej. Tej chwili\, w której człowiek – sam czy też w grupie – próbuje wejść w relację z sacrum\, różnie nazywanym w każdej z religii. Pragnąłem opowiedzieć moimi zdjęciami o ścieżkach duchowych\, po których idąc\, będąc różnymi\, jesteśmy sobie równi. Wszyscy wychodzimy z tego samego miejsca i ku temu samemu dążymy. Jestem ogromnie wdzięczny wszystkim bezimiennym bohaterom moich zdjęć za świadectwo ich wielkiej wiary\, że kiedyś razem TAM dojdziemy. \nAndrzej Ziółkowski\, Symbol yin i yang – „ciemny-jasny”\, „negatywny-pozytywny” – stanowi rdzeń filozofii taoistycznej. Uliczna opera chińska | 2020\, Bangkok\, Tajlandia\nWystawa w Bielsku-Białej jest już jedenastą prezentacją zbioru fotografii Andrzeja Ziółkowskiego „The Inward moments”. Wcześniejsze wystawy były pokazywane m.in. w Lublinie\, Kielcach\, Kazimierzu Dolnym\, Warszawie\, Gdyni\, Zakopanem\, Gniewie i w Tyńcu.
URL:https://news.niezlasztuka.net/event/andrzej-ziolkowski-the-inward-moment-czlowiek-wobec-sacrum/
LOCATION:Polska
ATTACH;FMTTYPE=image/jpeg:https://news.niezlasztuka.net/wp-content/uploads/2022/04/a-ziolkowski-muzulmanka_original.jpg
END:VEVENT
END:VCALENDAR