BEGIN:VCALENDAR
VERSION:2.0
PRODID:-//Niezła sztuka - newsy - ECPv5.16.1//NONSGML v1.0//EN
CALSCALE:GREGORIAN
METHOD:PUBLISH
X-WR-CALNAME:Niezła sztuka - newsy
X-ORIGINAL-URL:https://news.niezlasztuka.net
X-WR-CALDESC:Wydarzenia dla Niezła sztuka - newsy
BEGIN:VTIMEZONE
TZID:Europe/Warsaw
BEGIN:DAYLIGHT
TZOFFSETFROM:+0100
TZOFFSETTO:+0200
TZNAME:CEST
DTSTART:20200329T010000
END:DAYLIGHT
BEGIN:STANDARD
TZOFFSETFROM:+0200
TZOFFSETTO:+0100
TZNAME:CET
DTSTART:20201025T010000
END:STANDARD
END:VTIMEZONE
BEGIN:VEVENT
DTSTART;VALUE=DATE:20200208
DTEND;VALUE=DATE:20200414
DTSTAMP:20260420T141826
CREATED:20200125T120450Z
LAST-MODIFIED:20200125T120450Z
UID:12876-1581120000-1586822399@news.niezlasztuka.net
SUMMARY:Co dwie sztuki to nie jedna
DESCRIPTION:Wernisaż: 8 lutego 2020 r.\n godz. 12.00\n Zachęta. Narodowa Galeria Sztuki\n Wystawa czynna do: 13 kwietnia 2020\n Kuratorki: Zofia Dubowska\, Karolina Iwańczyk\, Katarzyna Kołodziej-Podsiadło\, Anna Zdzieborska \nArtyści i dzieci biorący udział w wystawie: Olaf Brzeski z Konstantym\, Iza Chlewińska z Miłoszem\, Kinga Nowak z Tytusem\, Zbigniew Rogalski z Tymonem\, Jaśmina Wójcik z Zoją i Leą oraz Paweł Althamer z Kosmą\, Monika Drożyńska z Tymonem\, Malwina Konopacka z Anielą\, Teresą i Julią\, Cecylia Malik z Urszulą \nJak patrzą na świat artyści\, a jak widzą go ich dzieci? Co ich cieszy? Czego się obawiają? Jak wspólnie widzą przyszłość? Zimowe ferie w Zachęcie otworzy pierwsza wspólna wystawa artystów i ich dzieci przygotowana z myślą o innych dzieciach i rodzicach. \nfot. materiały organizatora\nPrace — wykonane specjalnie na ten pokaz — pozwolą przyjrzeć się tematom ważnym zarówno dla młodych twórców\, jak i odbiorców sztuki. Dzieci artystów\, włączone w proces powstawania dzieła sztuki współczesnej\, zaproszą rówieśników do twórczego i aktywnego zwiedzania wystawy. A czas spędzony w galerii będzie również okazją do budowania i wspierania relacji między dziećmi i rodzicami. \nWystawa w Zachęcie stworzy nowe pole komunikacji i doświadczania sztuki. Izabela Chlewińska z Tomaszem Bergmannem i pięcioletnim Miłoszem koncentrują się na porozumieniu poprzez ruch i dotyk. Tworzą rodzinną instalację performatywną CIAŁO poświęconą bliskości\, obserwacji i wspólnej medytacji. Zabierają nas w świat doświadczania ciała\, ruchu i zmysłów za sprawą obiektów sensorycznych opracowanych ze szczególnym uwzględnieniem najmłodszych widzów (0-3 lata). Jaśmina Wójcik z córkami Zoją i Leą zaproszą publiczność do wspólnego budowania baz z bezpiecznych\, naturalnych materiałów. Przestrzeń galerii wypełnią kryjówki wykreowane z koców\, a w plenerze powstaną surwiwalowe budowle\, gdzie wszystko będzie możliwe. Będą zachęcać do wspólnego powrotu do natury\, odnalezienia w niej inspiracji do rodzinnych zabaw. Zbigniew Rogalski z synem Tymonem stworzą pracę inspirowaną wspólnym czytaniem. Instalacja W poszukiwaniu straconego czasu zabierze widzów w epicentrum śnieżycy stworzonej z tysięcy liter\, najmniejszych cząstek wszelkich\, przeczytanych oraz nieprzeczytanych jeszcze książek. Tymon wykona również galerię portretów bardzo ważnych osób\, do których — w czasie trwania wystawy — być może dołączą inne znajome twarze? Tym razem autorstwa pozostałych uczestników wystawy. Olaf Brzeski z synem Konstantym zrealizują wspólnie instalację rzeźbiarską. A Kinga Nowak z synem Tytusem przygotują wielkoformatową abstrakcyjną grę Parkour\, inspirowaną między innymi Minecraftem\, do której wciągną wszystkich zwiedzających. \nTo\, że artyści zapraszają do współpracy swoje dzieci\, nie jest nowym zjawiskiem. Na wystawie w „kąciku muzealnym”\, do którego można zajrzeć przez specjalne okienka\, pokazujemy wybór takich wspólnych prac\, m.in. tkaninę Stworzenie świata Moniki Drożyńskiej i jej syna Tymona\, rysunki tatrzańskich szczytów Zbigniewa i Tymona Rogalskich\, instalację Bananowy goryl Pawła i Kosmy Althamerów.
URL:https://news.niezlasztuka.net/event/dwie-sztuki-jedna/
LOCATION:Polska
ATTACH;FMTTYPE=image/jpeg:https://news.niezlasztuka.net/wp-content/uploads/2020/01/83568305_2620973484617457_921776427844501504_o.jpg
END:VEVENT
END:VCALENDAR