BEGIN:VCALENDAR
VERSION:2.0
PRODID:-//Niezła sztuka - newsy - ECPv5.16.1//NONSGML v1.0//EN
CALSCALE:GREGORIAN
METHOD:PUBLISH
X-WR-CALNAME:Niezła sztuka - newsy
X-ORIGINAL-URL:https://news.niezlasztuka.net
X-WR-CALDESC:Wydarzenia dla Niezła sztuka - newsy
BEGIN:VTIMEZONE
TZID:Europe/Warsaw
BEGIN:DAYLIGHT
TZOFFSETFROM:+0100
TZOFFSETTO:+0200
TZNAME:CEST
DTSTART:20200329T010000
END:DAYLIGHT
BEGIN:STANDARD
TZOFFSETFROM:+0200
TZOFFSETTO:+0100
TZNAME:CET
DTSTART:20201025T010000
END:STANDARD
END:VTIMEZONE
BEGIN:VEVENT
DTSTART;VALUE=DATE:20200207
DTEND;VALUE=DATE:20200302
DTSTAMP:20260420T155218
CREATED:20200202T134056Z
LAST-MODIFIED:20200202T134056Z
UID:12943-1581033600-1583107199@news.niezlasztuka.net
SUMMARY:Ireneusz Walczak. Zeitgeist
DESCRIPTION:Ireneusz Walczak. Zeitgeist \nWernisaż: 07 lutego 2020 r.\n godz. 18:00\n Galeria Bielska BWA\n Wystawa czynna do: 01 marca 2020 r.\n Kurator wystawy: Agata Smalcerz \nObrazy Ireneusza Walczaka to autorski komentarz do dzisiejszego świata. Malarstwo artysty współgra z duchem czasu\, ukazując rozdźwięk między ludzką naturą a rozwiniętą cywilizacją. \nfot. materiały organizatora\nWystawa malarstwa Ireneusza Walczaka prezentująca obrazy artysty\, zrealizowane w ostatnich trzech dekadach\, zawarte w kilku cyklach\, będących ulubioną formą wypowiedzi artysty. To malarstwo żywo komentujące rzeczywistość\, o czym świadczą także sugestywne\, często rozbudowane\, tytuły prac\, a jednocześnie autonomiczne wobec silnych emocji\, których dostarczają zmiany cywilizacyjne. \nAgata Smalcerz\, kurator wystawy: Obraz „Disintegration” Ireneusza Walczaka zdobył Złoty Medal na XXXI Ogólnopolskiej Wystawie Malarstwa Bielska Jesień w Galerii Bielskiej BWA w Bielsku-Białej w 1994 roku. Po 25 latach problem podjęty wówczas przez artystę w cyklu „Terra Incognita” – dezintegracji świata przyrody i człowieka\, zagrożeń wynikających ze zniszczenia środowiska – jest ciągle aktualny. Jedynym pozytywem w stosunku do globalnej sytuacji sprzed ćwierćwiecza\, jest obecnie wzrost świadomości ludzi i podjęcie pewnych działań mających zatrzymać katastrofę ekologiczną. Jednak degradacja środowiska postępuje i pytanie\, czy zdążymy i czy zdołamy – pozostaje otwarte. \nNa wystawie w Galerii Bielskiej BWA zaprezentowanych zostanie kilkanaście monumentalnych obrazów artysty z cyklu „Terra Incognita” z lat 1991–1995\, uzupełnionych obrazami z cyklu „Zrosty” z 1989 roku oraz kilka prac z lat 2017 i 2019\, w tym cykl „Zeitgeist”\, który dał tytuł całej wystawie. Problem ekologii został w nich poszerzony o wątek destrukcyjnej siły modelu ekonomicznego obowiązującego we współczesnym społeczeństwie oraz rozdźwięku między ludzką naturą a rozwiniętą cywilizacją. „Zeitgeist” (niem. duch czasu) to pojęcie odnoszące się do intelektualnego i kulturalnego klimatu epoki.
URL:https://news.niezlasztuka.net/event/ireneusz-walczak-zeitgeist/
LOCATION:Polska
ATTACH;FMTTYPE=image/jpeg:https://news.niezlasztuka.net/wp-content/uploads/2020/02/18-Walczak-Zeitgeist-I-2017_original.jpg
END:VEVENT
END:VCALENDAR