BEGIN:VCALENDAR
VERSION:2.0
PRODID:-//Niezła sztuka - newsy - ECPv5.16.1//NONSGML v1.0//EN
CALSCALE:GREGORIAN
METHOD:PUBLISH
X-WR-CALNAME:Niezła sztuka - newsy
X-ORIGINAL-URL:https://news.niezlasztuka.net
X-WR-CALDESC:Wydarzenia dla Niezła sztuka - newsy
BEGIN:VTIMEZONE
TZID:Europe/Warsaw
BEGIN:DAYLIGHT
TZOFFSETFROM:+0100
TZOFFSETTO:+0200
TZNAME:CEST
DTSTART:20210328T010000
END:DAYLIGHT
BEGIN:STANDARD
TZOFFSETFROM:+0200
TZOFFSETTO:+0100
TZNAME:CET
DTSTART:20211031T010000
END:STANDARD
END:VTIMEZONE
BEGIN:VEVENT
DTSTART;VALUE=DATE:20210805
DTEND;VALUE=DATE:20211101
DTSTAMP:20260419T141932
CREATED:20210901T163601Z
LAST-MODIFIED:20210901T163726Z
UID:16913-1628121600-1635724799@news.niezlasztuka.net
SUMMARY:Jacek Malczewski. Portret własny
DESCRIPTION:Jacek Malczewski. Portret własny \n05 sierpnia 2021 r. – 31 października 2021\n Muzeum Okręgowe w Rzeszowie\n Kurator: Maria Stopyra \nNa plakacie: Jacek Malczewski\, Niewola\, Wojna\, Wolność\, jedna część tryptyku Wolność | 1917\, Muzeum Okręgowe w Toruniu\nWystawa Jacek Malczewski – portret własny ukazuje znakomite malarstwo wielkiego twórcy polskiego modernizmu\, jednego z najwybitniejszych reprezentantów sztuki Młodej Polski\, symbolisty przełomu XIX i XX wieku\, a także profesora i rektora Akademii Sztuk Pięknych w Krakowie. \nSpuścizna artystyczna (w tym autoportrety) Jacka Malczewskiego (1854 – 1929) – malarza\, rysownika i poety zapewniły mu pozycję jednego z największych rodzimych artystów. Według słów Pani Agnieszki Ławniczakowej (sławnego badacza twórczości mistrza): Dzieło Malczewskiego\, stanowiąc trwałą pozycję w historii polskiej sztuki\, jest zarazem wybitnym zjawiskiem w malarstwie europejskim.  Twórca powracał przez całą swoją artystyczną działalność do niektórych motywów i właśnie autoportrety należą do licznego\, ważnego\, pięknego\,  a także bardzo zajmującego oraz stałego i intrygującego „repertuaru”\, wśród jego malarskich dzieł. (Znane są też rysunki\, w których artysta podejmuje autoportret.) \nWystawa Jacek Malczewski. Portret własny\nWarto zwrócić uwagę na opis (Jana Bołoza Antoniewicza w „Katalogu wystawy stu dzieł Jacka Malczewskiego” we Lwowie z 1903 roku)\, skromnego portretu własnego twórcy z 1879 roku\, który dotyczy prawdopodobnie jednego z jego pierwszych autoportretów: Na jasno-niebieskiem tle główka 24-letniego artysty\, zwracająca się z lewego profilu na wprost. Poniżej wolnej szyi drapowany płaszcz cielistego koloru na czole przepaska. \nWśród dziewiętnastowiecznych „ujęć” malarza znajdują się też okazałe\, reprezentacyjne autoportrety utrzymane w tradycyjnej\, nieomal realistycznej konwencji. \nEpoka przełomu XIX i XX wieku stała się dla Malczewskiego wyjątkowym czasem. Wówczas artysta malował wielokrotnie swoje oblicza w symbolicznym „kontekście”. Jego portrety własne były w rozmaitym otoczeniu (zarówno z towarzyszącymi malarzowi różnymi postaciami\, jak też zostały stworzone m.in. na tle rodzimego pejzażu)\, a także samodzielne ujęcia portretowe (szczególnie liczne od 1918 roku). W autoportretach mistrza należy zwrócić uwagę na znakomite kadrowanie. \nWystawa Jacek Malczewski. Portret własny\nJacek Malczewski dzięki swemu talentowi potrafił ukazać w w tych dziełach nie tylko postępującą zmianę swojej fizjonomii\, ale też dumne oblicze i nade wszystko efektowne stroje. Dzięki temu możemy dostrzec ideę\, która towarzyszyła jego wyobrażeniom o „autorskiej kreacji” samego siebie w portretach własnych. (I należy zaakcentować\, że malarz ze szczególną atencją przedstawiał swój wizerunek w różnorodnej „roli”\, bo w tychże podobiznach ukazywał się m.in. w przeróżnych nakryciach głowy i wielu „wyszukanych” ubiorach.) \nTe stale budzące respekt modernistyczne autoportrety artysty są efektowne i spektakularne\, pełne intensywnych kolorów\, atrakcyjnej kompozycji (w zróżnicowanych formatach) i jednocześnie mają mocną siłę działania. Symbolika dzieł Malczewskiego jest zawsze złożona i niezwykle głęboka\, co daje widzowi duże możliwości interpretowania obrazów malarza. W tych przepełnionych symbolicznymi treściami dziełach na szczególną uwagę zwraca wyniosła poza podkreślająca wielką rolę Jacka Malczewskiego\, jako malarza i jednego z najwybitniejszych rodzimych artystów. W autoportretach Jacka Malczewskiego postawa jest majestatyczna\, wręcz monumentalna\, bo taka była pozycja twórcy na arenie sztuki. Zamysłem malarza w tych wizerunkach było oddanie swojej wyniosłości i niekwestionowanej pozycji na polu sztuki\, a także świadomość swojej „ars” jako twórcy będącego „ponad światem”. (Mistrz był wówczas artystą słynnym\, cenionym i nagradzanym\, który stworzył najwięcej swoich portretów wśród polskich malarzy.)\nNatomiast szczególnie wymowne są jego autoportrety (przesiąknięte dramatyzmem i smutkiem)\, namalowane w ostatnich latach życia. \nNależy podkreślić\, że bardzo interesujące portrety własne Jacka Malczewskiego znajdują się (obok innych jego dzieł) na stałych wystawach w największych muzeach w naszym kraju\, a także poza granicami Polski (istotny zbiór jest we Lwowie) i w wielu kolekcjach prywatnych. Obrazy te były eksponowane na licznych i wielkich ekspozycjach (w Polsce i zagranicą)\, pośród innych dzieł malarza. Również w licznych katalogach i albumach poświęconych artyście znajdują się teksty napisane przez najwybitniejszych historyków sztuki poświęcone m.in. wizerunkom własnym artysty. Ponadto autoportrety malarza są reprodukowane obok jego pozostałych dzieł w bardzo licznych publikacjach.  Moja szeroka kwerenda w wielu instytucjach (w tym w największych polskich muzeach) i niektórych zbiorach prywatnych pozwoliła właśnie na taki wybór autoportretów malarza. \nTa autorska prezentacja oblicza artysty na wystawie „Jacek Malczewski – portret własny” — to ponad 20 obrazów (z czego kilka nieznanych)\, z 9 instytucji\, co daje widzowi niezwykłą\, wręcz wyjątkową okazję do spotkania z jego artyzmem i wielką sztuką w autoportrecie. \nWystawa w Muzeum Okręgowym w Rzeszowie została zrealizowana dzięki współpracy i użyczeniu dzieł artysty z następujących instytucji: Muzeum Narodowego w Warszawie\, Muzeum Narodowego w Poznaniu\, Muzeum im. Jacka Malczewskiego w Radomiu\, Muzeum Narodowego w Krakowie\, Uniwersytetu Jagiellońskiego\, Muzeum Uniwersytetu Jagiellońskiego\, Akademii Sztuk Pięknych im. J. Matejki w Krakowie\, zbiory ASP\, Muzeum Okręgowego w Toruniu\, Muzeum Narodowego w Lublinie\, Miasta i Gminy Zakliczyn – Urzędu Miejskiego w Zakliczynie.
URL:https://news.niezlasztuka.net/event/jacek-malczewski-portret-wlasny/
LOCATION:Muzeum Okręgowe w Rzeszowie\, 3 Maja 19\, Rzeszów\, 35-030\, Polska
ATTACH;FMTTYPE=image/jpeg:https://news.niezlasztuka.net/wp-content/uploads/2021/09/plakat_Malczewski.jpg
GEO:50.035758140885;22.002225625907
X-APPLE-STRUCTURED-LOCATION;VALUE=URI;X-ADDRESS=Muzeum Okręgowe w Rzeszowie 3 Maja 19 Rzeszów 35-030 Polska;X-APPLE-RADIUS=500;X-TITLE=3 Maja 19:geo:22.002225625907,50.035758140885
END:VEVENT
END:VCALENDAR