BEGIN:VCALENDAR
VERSION:2.0
PRODID:-//Niezła sztuka - newsy - ECPv5.16.1//NONSGML v1.0//EN
CALSCALE:GREGORIAN
METHOD:PUBLISH
X-WR-CALNAME:Niezła sztuka - newsy
X-ORIGINAL-URL:https://news.niezlasztuka.net
X-WR-CALDESC:Wydarzenia dla Niezła sztuka - newsy
BEGIN:VTIMEZONE
TZID:Europe/Warsaw
BEGIN:DAYLIGHT
TZOFFSETFROM:+0100
TZOFFSETTO:+0200
TZNAME:CEST
DTSTART:20220327T010000
END:DAYLIGHT
BEGIN:STANDARD
TZOFFSETFROM:+0200
TZOFFSETTO:+0100
TZNAME:CET
DTSTART:20221030T010000
END:STANDARD
END:VTIMEZONE
BEGIN:VEVENT
DTSTART;VALUE=DATE:20220407
DTEND;VALUE=DATE:20220620
DTSTAMP:20260424T110828
CREATED:20220527T154509Z
LAST-MODIFIED:20220527T154509Z
UID:18820-1649289600-1655683199@news.niezlasztuka.net
SUMMARY:Jerzy Krawczyk. Gra o wszystko
DESCRIPTION:Jerzy Krawczyk.\n Gra o wszystko \n07 kwietnia 2022 r. – 19 czerwca 2022 r.\n Zachęta – Narodowa Galeria Sztuki\n Kurator: Michał Jachuła \nWystawa Jerzy Krawczyk. Gra o wszystko\nWystawa Jerzego Krawczyka w Zachęcie – Narodowej Galerii Sztuki przybliża wielowątkową twórczość opartą na przeżyciach i przekonaniach osobistych malarza i odwołaniach do kanonu sztuki dawnej i tej z początku XX wieku. Ekspozycja obejmuje dojrzałe prace artysty\, w tym pejzaże łódzkie malowane od drugiej połowy lat pięćdziesiątych XX wieku\, martwe natury i portrety rozwijające koncepcję realizmu przestrzennego\, prace z Zakładu Anatomii Prawidłowej Akademii Medycznej w Łodzi\, a także dzieła poświęcone wojnie i Holokaustowi\, tworzone aż do przedwczesnej śmierci artysty w 1969 roku. Dwa bieguny sztuki\, czyli „malarstwo o malarstwie” i życiowe doświadczenie — kluczowe dla malarskiego oeuvre Krawczyka — znajdują odzwierciedlenie w wyborze i układzie ponad 80 prac pokazanych w sześciu salach Zachęty. \nWrażliwy na ikonosferę codzienności Krawczyk w prekursorski sposób podejmował temat konsumeryzmu\, nadmiaru obrazów i informacji\, a także autotematyczny wątek „sztuki o sztuce”. Reprezentował krytyczne podejście do współczesnej mu rzeczywistości i do samego siebie\, a w odniesieniu do sztuki — do kategorii oryginalności i nowatorstwa. W jego obrazach rozpoznajemy tematy egzystencjalne\, namysł nad śmiercią i przepełnione humorem intelektualne konstrukcje — odmalowane z warsztatową biegłością\, przepełnione miłością do malarstwa. Artysta żonglował stylistykami i językami wizualnymi — od kolażu po trompe l’oeil\, do swoich obrazów olejnych wplatał również fragmenty tekstów. Liczne jego dzieła są świadectwem czerpania motywów z własnych obrazów\, ich przemalowywania bądź malowania na nowo\, przepracowywania kompozycji i udoskonalania konceptu. \nWystawa Jerzego Krawczyka zorganizowana we współpracy z Muzeum Sztuki w Łodzi jest pierwszą tak obszerną prezentacją dzieł malarza od 35 lat. Towarzyszy jej polsko-angielska publikacja z tekstami Anny Baranowej\, Jarosława Lubiaka\, Karoliny Zychowicz\, Marcina Lachowskiego i Michała Jachuły. Taki dobór tekstów\, jak i dzieł pokazanych na wystawie\, pozwalają na zobaczenie złożonej i oryginalnej twórczości Krawczyka w nowym świetle.
URL:https://news.niezlasztuka.net/event/jerzy-krawczyk-gra-o/
LOCATION:Polska
ATTACH;FMTTYPE=image/jpeg:https://news.niezlasztuka.net/wp-content/uploads/2022/05/JERZY-KRAWCZYK.jpg
END:VEVENT
END:VCALENDAR