BEGIN:VCALENDAR
VERSION:2.0
PRODID:-//Niezła sztuka - newsy - ECPv5.16.1//NONSGML v1.0//EN
CALSCALE:GREGORIAN
METHOD:PUBLISH
X-WR-CALNAME:Niezła sztuka - newsy
X-ORIGINAL-URL:https://news.niezlasztuka.net
X-WR-CALDESC:Wydarzenia dla Niezła sztuka - newsy
BEGIN:VTIMEZONE
TZID:Europe/Warsaw
BEGIN:DAYLIGHT
TZOFFSETFROM:+0100
TZOFFSETTO:+0200
TZNAME:CEST
DTSTART:20200329T010000
END:DAYLIGHT
BEGIN:STANDARD
TZOFFSETFROM:+0200
TZOFFSETTO:+0100
TZNAME:CET
DTSTART:20201025T010000
END:STANDARD
END:VTIMEZONE
BEGIN:VEVENT
DTSTART;VALUE=DATE:20200207
DTEND;VALUE=DATE:20200302
DTSTAMP:20260420T171749
CREATED:20200103T205122Z
LAST-MODIFIED:20200103T205122Z
UID:12806-1581033600-1583107199@news.niezlasztuka.net
SUMMARY:Marzena Tauer-Konecka. Pamięć ujarzmiona
DESCRIPTION:Marzena Tauer-Konecka.\n Pamięć ujarzmiona \nWernisaż: 07 lutego 2020 r.\n godz. 18.00\n Galeria Sztuki Wozownia\n Wystawa czynna do: 01 marca 2020 r. \nZamysł namalowania życiorysu powstał wiele lat temu\, ale musiało upłynąć trochę czasu\, by można go było zrealizować. Bo czas daje dystans: i do spraw\, które się kiedyś wydarzyły\, i do siły naszych przeżyć – uspokaja\, równoważy emocje. Stajemy się też bardziej sentymentalni. \nFot. materiały organizatora\nPrzed oczami przesuwają się obrazy\, które zapamiętałam niczym filmowe kadry. Chciałam je zatrzymać\, utrwalić – ocalić mój wielki\, mały świat od zapomnienia. Proces twórczy nie jest łatwy\, przynosi radość\, satysfakcję\, ale też zwątpienie\, czasami niemoc – stąd „pamięć ujarzmiona”. \nKażdy obraz został przeze mnie starannie skonstruowany. Tylko w ten sposób mogę przekazać treści w statycznym\, jednoznacznym kształcie. W pamięci pozostały czyste\, silne wizje\, już bez wewnętrznych wibracji\, które towarzyszyły mi zawsze. Pozostały też emocje – malując portret nie sposób ukryć własnego stosunku do przedstawianej osoby. Najważniejsze jednak\, żeby zachować właściwy poziom koherencji. \nFot. materiały organizatora\nLapis lazuri – półszlachetny kamień\, z którego w starożytności wyrabiano niebieską farbę ultramarynę\, był też kolorem bogów\, królów. Człowiek na ziemi jest najsilniejszy\, a twarz jest jego wizytówką – jest więc niebieska. Jednak najbliższym dla mnie kolorem niebieskim jest wszędobylski błękit pruski. Wszystkie obrazy zawierają ten barwnik. Obrazy z cyklu „Życiorys” mają datę – rok\, kiedy namalowane wydarzenie miało miejsce\, jest to przekorne datowanie\, ale logiczne. Mogę malować nowe obrazy do tego cyklu i ciągle uzupełniać życiorys – jak gdyby coś się jeszcze przypomniało.
URL:https://news.niezlasztuka.net/event/marzena-tauer-konecka-pamiec-ujarzmiona/
LOCATION:Polska
ATTACH;FMTTYPE=image/jpeg:https://news.niezlasztuka.net/wp-content/uploads/2020/01/11.jpg
END:VEVENT
END:VCALENDAR