BEGIN:VCALENDAR
VERSION:2.0
PRODID:-//Niezła sztuka - newsy - ECPv5.16.1//NONSGML v1.0//EN
CALSCALE:GREGORIAN
METHOD:PUBLISH
X-WR-CALNAME:Niezła sztuka - newsy
X-ORIGINAL-URL:https://news.niezlasztuka.net
X-WR-CALDESC:Wydarzenia dla Niezła sztuka - newsy
BEGIN:VTIMEZONE
TZID:Europe/Warsaw
BEGIN:DAYLIGHT
TZOFFSETFROM:+0100
TZOFFSETTO:+0200
TZNAME:CEST
DTSTART:20210328T010000
END:DAYLIGHT
BEGIN:STANDARD
TZOFFSETFROM:+0200
TZOFFSETTO:+0100
TZNAME:CET
DTSTART:20211031T010000
END:STANDARD
END:VTIMEZONE
BEGIN:VEVENT
DTSTART;VALUE=DATE:20210716
DTEND;VALUE=DATE:20210913
DTSTAMP:20260419T181641
CREATED:20210712T093402Z
LAST-MODIFIED:20210914T100116Z
UID:16422-1626393600-1631491199@news.niezlasztuka.net
SUMMARY:Michał Czuba. Wrażenie
DESCRIPTION:Michał Czuba. Wrażenie\nGaleria Re:Medium\nul. Piotrkowska 113\nwernisaż: 16.07.2021\, g. 18.00\n17.07.2021 – 12.09.2021\nkuratorka: Dominika Pawełczyk\nWięcej informacji » \n \n\nW Galerii Re:Medium Michał Czuba prezentuje swoje najnowsze realizacje\, które rezygnują z dosłownego ujmowania bogactw wizualnych przyrody na rzecz zredukowanej gry malarskiej i sytuują się już blisko abstrakcji lirycznej. \nAutor szuka nowej poezji poprzez powrót do źródeł w tak pozornie wyczerpanym temacie\, jakim jest natura. Paradoksalnie\, ten zwrot ku pejzażowi współcześnie można odczytywać jako bardzo odważny. Michał Czuba jest zafascynowany bogactwem kształtów i kolorów przyrody\, która kusiła już rzeszę poprzedników. Wydobywa własną esencję rzeczywistości\, skupiając się na fragmentach środowiska\, które go zachwyciły\, sprowokowały. Pragnie znaleźć ogólny wynik wszystkich barw i form\, które budują panoramę. \nMichał Czuba\, fot. materiały organizatora\nArtysta pragnie pokazać odbiorcom naturę w jej aspekcie najbardziej spotęgowanym i maksymalnie przenikliwym. Autora pochłania aktywne badanie\, czy każde uczucie i każda myśl mają swój odpowiednik plastyczny. Stąd też indywidualne przeżycie natury stało się fundamentem jego sztuki\, choć instynkt nie pozwala mu na zbyt długie celebrowanie drobnych przejawów przyrody. Praca twórcza prowokuje Michała Czubę do akcji\, do symbolicznego wzięcia w dłonie elementów krajobrazu: łąk\, lasów\, jezior\, i rzucenia ich na płótno. \nMichał Czuba\, fot. materiały organizatora\nObrazy Michała Czuby przypominają żywą tkankę. Gęstość przedstawień\, ich różnorodna powłoka tworzą złudzenie nieskończoności\, bez horyzontu i bez brzegu. Zdarza się\, że kontynuację otwartych kompozycji autora znajdziemy bezpośrednio na podłodze pracowni i pośród zacieków na innych podobraziach – przyszłych pracach\, które rzadko kiedy rozpoczynane są z pozycji czystych powierzchni. \nMichał Czuba najbardziej lubi sam proces twórczy. Prace\, które uznaje za skończone\, zostają oddane w ręce widzów. Publiczna prezentacja to czas\, gdy płótna przestają należeć do autora i zaczynają służyć ogółowi\, który oceni ich energię. \nMichał Czuba\, fot. materiały organizatora\nJest to właściwy moment narodzin obrazu\, który na zawsze zostanie zapamiętany w swej konkretnej formie. Zupełnie jak ręce graczy w karty Paula Cézanne’a\, które już nigdy nie będą proporcjonalne\, pokój Vincenta van Gogha\, który nie zmieni swojej krzykliwej kolorystyki\, czy ledwo dające się określić nenufary w obrazach Claude’a Moneta\, które nie staną się bardziej oczywiste. W tych wszystkich przykładach chodzi o śmiałość oglądania rzeczy. Michał Czuba także jest interpretatorem\, nie pokazującym jak widzi\, ale jak można postrzegać. Pytanie: czy mamy odpowiednią wrażliwość sensualną\, i czy jesteśmy mentalnie otwarci na tę sztukę? \nDominika Pawełczyk\, fragmenty tekstu do katalogu wystawy „Michał Czuba. Wrażenie”. \n\nMichał Czuba – urodzony w 1991 w Piotrkowie Trybunalskim. Absolwent Akademii Sztuk Pięknych im. Władysława Strzemińskiego w Łodzi. Uczestnik wielu wystaw oraz sympozjów. Wielokrotnie nagradzany za swoją twórczość\, m. in. w 34. i 36. Konkursie im. Władysława Strzemińskiego – Sztuki Piękne\, malarskim konkursie Nowy Obraz / Nowe Spojrzenia 2017 organizowanym przez Uniwersytet Artystyczny w Poznaniu\, czy I Triennale Malarstwa Studenckiego w BWA w Rzeszowie. Stypendysta Ministra Kultury i Dziedzictwa Narodowego w roku 2018/19 za wybitne osiągnięcia artystyczne. Twórczość w zakresie malarstwa\, rysunku oraz grafiki artystycznej. Mieszka i prowadzi autorską pracownię artystyczną w Łodzi. \nMichał Czuba jest laureatem Miejskiej Galerii Sztuki w Łodzi w 36. Konkursie im. Władysława Strzemińskiego – Sztuki Piękne.
URL:https://news.niezlasztuka.net/event/michal-czuba-wrazenie-miejska-galeria-sztuki-w-lodzi/
LOCATION:Miejska Galeria Sztuki w Łodzi | Galeria Re:Medium\, ul. Piotrkowska 113\, Łódź\, 90-001\, Polska
ATTACH;FMTTYPE=image/jpeg:https://news.niezlasztuka.net/wp-content/uploads/2021/07/michal-czuba-wrazenie.jpg
GEO:51.76387;19.457251
X-APPLE-STRUCTURED-LOCATION;VALUE=URI;X-ADDRESS=Miejska Galeria Sztuki w Łodzi | Galeria Re:Medium ul. Piotrkowska 113 Łódź 90-001 Polska;X-APPLE-RADIUS=500;X-TITLE=ul. Piotrkowska 113:geo:19.457251,51.76387
END:VEVENT
END:VCALENDAR