BEGIN:VCALENDAR
VERSION:2.0
PRODID:-//Niezła sztuka - newsy - ECPv5.16.1//NONSGML v1.0//EN
CALSCALE:GREGORIAN
METHOD:PUBLISH
X-WR-CALNAME:Niezła sztuka - newsy
X-ORIGINAL-URL:https://news.niezlasztuka.net
X-WR-CALDESC:Wydarzenia dla Niezła sztuka - newsy
BEGIN:VTIMEZONE
TZID:Europe/Warsaw
BEGIN:DAYLIGHT
TZOFFSETFROM:+0100
TZOFFSETTO:+0200
TZNAME:CEST
DTSTART:20200329T010000
END:DAYLIGHT
BEGIN:STANDARD
TZOFFSETFROM:+0200
TZOFFSETTO:+0100
TZNAME:CET
DTSTART:20201025T010000
END:STANDARD
END:VTIMEZONE
BEGIN:VEVENT
DTSTART;VALUE=DATE:20200215
DTEND;VALUE=DATE:20200404
DTSTAMP:20260420T010204
CREATED:20200202T134613Z
LAST-MODIFIED:20200202T134613Z
UID:12946-1581724800-1585958399@news.niezlasztuka.net
SUMMARY:Michał Patycki. Słońce
DESCRIPTION:Michał Patycki. Słońce \nWernisaż: 15 lutego 2020 r.\n godz. 19:00\n CSW Kronika\n Wystawa czynna do: 03 kwietnia 2020 r.\n Kuratorka: Maga Ćwieluch \nGórnik Staszek Zięba wyjeżdża na powierzchnię po wielogodzinnej szychcie pod ziemią. Po oczyszczeniu ciała z kopalnianego pyłu naświetla je solarną lampą\, by wynagrodzić i jednocześnie nadrobić wielogodzinny brak słonecznego światła. \nfot. materiały organizatora\nO całym tym procederze dowiadujemy się z archiwalnego artykułu\, zamieszczonego w połowie lat 50. ubiegłego stulecia w Śląskim Tygodniku Ilustrowanym „Panorama”. Nie wiadomo\, czy to zamówiony tekst propagandowy\, wybielający władze kopalni wyzyskującej pracujących w ciężkich warunkach górników\, czy rzeczywiście na większą skalę podejmowano próby naświetlania. Podobne informacje można znaleźć w archiwach zza wschodniej granicy. Na rynku sprzedaży od lat dostępne są różne modele lampy antydepresyjnej\, a od jednej ze śląskich rodzin Michał Patycki dowiaduje się\, że początkowo miały być one przewidziane do leczenia oczu górników. \nArtysta nie wchodzi jednak w reporterskie śledztwo. Zainspirowany wycinkiem prasowym\, zaczyna fantazjować. O słońcu. O węglu. O łączącej ich energii. O tym\, że przez ciemność może nas prowadzić światło. To samo światło\, którego brak lub nadmiar powoduje śmiertelne zagrożenie. Zachwyt nad życiodajną energią łączy się tu z wizją mroku i apokalipsy klimatycznej. Analizując te zależności\, artysta przygląda się laboratoryjnym obiektom oraz eksperymentom\, które odbywały się w Kopalni Doświadczalnej „Barbara” w Mikołowie.\nArtysta unika szablonów. Nie zobaczymy więc standardowego wizerunku kopalnianego szybu\, a jedynie konstrukcyjną wariację na jego temat\, zbudowaną na podstawie naukowego modelu. Na ekspozycji nie pojawi się również czarna bryła węgla w żadnej postaci. Jedynie mikroskopowe słońca\, zapożyczone z archiwum Muzeum Geologii Złóż przy Politechnice Śląskiej\, czyli powiększone mikroskopowo struktury węgla – głębokie echo znanego nam czarnego surowca. Ich kulistość\, kulturowo przez wieki symbolizująca życie\, może być jednocześnie kojącą dla oczu\, idealną i prostą formą\, z niewyczerpywalnym potencjałem interpretacyjnym.
URL:https://news.niezlasztuka.net/event/michal-patycki-slonce/
ATTACH;FMTTYPE=image/jpeg:https://news.niezlasztuka.net/wp-content/uploads/2020/02/5cb7d9c008502deb8141091027f5f238_L.jpg
END:VEVENT
END:VCALENDAR