BEGIN:VCALENDAR
VERSION:2.0
PRODID:-//Niezła sztuka - newsy - ECPv5.16.1//NONSGML v1.0//EN
CALSCALE:GREGORIAN
METHOD:PUBLISH
X-WR-CALNAME:Niezła sztuka - newsy
X-ORIGINAL-URL:https://news.niezlasztuka.net
X-WR-CALDESC:Wydarzenia dla Niezła sztuka - newsy
BEGIN:VTIMEZONE
TZID:Europe/Warsaw
BEGIN:DAYLIGHT
TZOFFSETFROM:+0100
TZOFFSETTO:+0200
TZNAME:CEST
DTSTART:20220327T010000
END:DAYLIGHT
BEGIN:STANDARD
TZOFFSETFROM:+0200
TZOFFSETTO:+0100
TZNAME:CET
DTSTART:20221030T010000
END:STANDARD
END:VTIMEZONE
BEGIN:VEVENT
DTSTART;VALUE=DATE:20220408
DTEND;VALUE=DATE:20220919
DTSTAMP:20260423T123450
CREATED:20220514T122924Z
LAST-MODIFIED:20220514T122924Z
UID:18669-1649376000-1663545599@news.niezlasztuka.net
SUMMARY:Mistrz polskiego dłuta. Stanisław Horno-Popławski i jego rzeźba
DESCRIPTION:Mistrz polskiego dłuta.\n Stanisław Horno-Popławski i jego rzeźba \n08 kwietnia 2022 r. – 18 września 2022 r.\n Muzeum Pomorza Środkowego w Słupsku |\n Biały Spichlerz \nWystawa Mistrz polskiego dłuta. Stanisław Horno-Popławski i jego rzeźba\nWystawa prezentuje dzieła jednego z najbardziej utalentowanych rzeźbiarzy polskich XX wieku\, także malarza i pedagoga żyjącego w latach 1902-1997. Twórczość tego artysty ewoluowała od monumentalnego klasycyzmu\, zainteresowania rzeźbą antyczną\, poprzez realizm\, aż po dzieła zbliżone do abstrakcji. Rzeźbiarz wypracował swój własny\, indywidualny styl. \nW dorobku Stanisława Horno-Popławskiego odnaleźć można rzeźby portretowe\, posągi\, ludowe\, rodzajowe\, także historyczne\, patriotyczne oraz alegoryczne i sakralne. Tworzył w kamieniu\, granicie\, nefrycie\, później także w kamieniu polnym. Jest autorem m.in. pomnika Adama Mickiewicza w Warszawie czy Karola Szymanowskiego w Słupsku. Dzieła zaprezentowane na wystawie\, to prace wykonane w kamieniu\, gipsie oraz odlane w brązie pochodzące z kolekcji Bydgoskiego Centrum Sztuki im. Stanisława Horno-Popławskiego.
URL:https://news.niezlasztuka.net/event/mistrz-polskiego-dluta-stanislaw-horno-poplawski-rzezba/
LOCATION:Muzeum Pomorza Środkowego w Słupsku\, ul. Dominikańska 5-9\, Słupsk\, 76-200\, Polska
ATTACH;FMTTYPE=image/jpeg:https://news.niezlasztuka.net/wp-content/uploads/2022/05/Mistrz-polskiego-dluta.jpg
GEO:54.464407;17.0351913
X-APPLE-STRUCTURED-LOCATION;VALUE=URI;X-ADDRESS=Muzeum Pomorza Środkowego w Słupsku ul. Dominikańska 5-9 Słupsk 76-200 Polska;X-APPLE-RADIUS=500;X-TITLE=ul. Dominikańska 5-9:geo:17.0351913,54.464407
END:VEVENT
END:VCALENDAR