BEGIN:VCALENDAR
VERSION:2.0
PRODID:-//Niezła sztuka - newsy - ECPv5.16.1//NONSGML v1.0//EN
CALSCALE:GREGORIAN
METHOD:PUBLISH
X-WR-CALNAME:Niezła sztuka - newsy
X-ORIGINAL-URL:https://news.niezlasztuka.net
X-WR-CALDESC:Wydarzenia dla Niezła sztuka - newsy
BEGIN:VTIMEZONE
TZID:Europe/Warsaw
BEGIN:DAYLIGHT
TZOFFSETFROM:+0100
TZOFFSETTO:+0200
TZNAME:CEST
DTSTART:20220327T010000
END:DAYLIGHT
BEGIN:STANDARD
TZOFFSETFROM:+0200
TZOFFSETTO:+0100
TZNAME:CET
DTSTART:20221030T010000
END:STANDARD
END:VTIMEZONE
BEGIN:VEVENT
DTSTART;VALUE=DATE:20220516
DTEND;VALUE=DATE:20220816
DTSTAMP:20260420T213023
CREATED:20220526T162147Z
LAST-MODIFIED:20220526T162147Z
UID:18763-1652659200-1660607999@news.niezlasztuka.net
SUMMARY:Narcyz. Wystawa prac studentów polskich uczelni artystycznych
DESCRIPTION:Narcyz.\n Wystawa prac studentów polskich uczelni artystycznych \n16 maja 2022 r. – 15 sierpnia 2022 r.\n Centrum Spotkania Kultur w Lublinie |\n Duża Kieszeń Sceny +1 \nWystawa Narcyz. Wystawa prac studentów polskich uczelni artystycznych\nWystawa prac studenckich „Narcyz” to prezentacja najciekawszych prac studentów polskich Akademii Sztuk Pięknych z Gdańska\, Krakowa\, Wrocławia\, Warszawy\, Katowic i Łodzi oraz z Uniwersytetu Artystycznego w Poznaniu. Co roku motywem przewodnim jest mitologia starożytna. Inspiracją edycji w 2022 roku jest mit o Narcyzie. \nTworzone eksponaty mogą przybrać formę kostiumów\, elementów scenografii\, makiet\, instalacji multimedialnych lub innych form instalacji przestrzennych. Po raz drugi studenci polskich szkół artystycznych zaprezentują prace w przestrzeniach otwartych CSK.
URL:https://news.niezlasztuka.net/event/narcyz-wystawa-prac-studentow-polskich-uczelni-artystycznych/
LOCATION:Polska
ATTACH;FMTTYPE=image/png:https://news.niezlasztuka.net/wp-content/uploads/2022/05/narcyz.png
END:VEVENT
END:VCALENDAR