BEGIN:VCALENDAR
VERSION:2.0
PRODID:-//Niezła sztuka - newsy - ECPv5.16.1//NONSGML v1.0//EN
CALSCALE:GREGORIAN
METHOD:PUBLISH
X-WR-CALNAME:Niezła sztuka - newsy
X-ORIGINAL-URL:https://news.niezlasztuka.net
X-WR-CALDESC:Wydarzenia dla Niezła sztuka - newsy
BEGIN:VTIMEZONE
TZID:Europe/Warsaw
BEGIN:DAYLIGHT
TZOFFSETFROM:+0100
TZOFFSETTO:+0200
TZNAME:CEST
DTSTART:20220327T010000
END:DAYLIGHT
BEGIN:STANDARD
TZOFFSETFROM:+0200
TZOFFSETTO:+0100
TZNAME:CET
DTSTART:20221030T010000
END:STANDARD
END:VTIMEZONE
BEGIN:VEVENT
DTSTART;VALUE=DATE:20220401
DTEND;VALUE=DATE:20220507
DTSTAMP:20260424T062319
CREATED:20220331T160059Z
LAST-MODIFIED:20220509T141541Z
UID:18199-1648771200-1651881599@news.niezlasztuka.net
SUMMARY:BIO–GRAFIE. Patrzenie przez rzeczy
DESCRIPTION:Paweł Kula.\nBIO-GRAFIE. Patrzenie przez rzeczy\n01.04 – 06.05.2022\nwernisaż: 01.04.2022\, g. 17:30\nSalon Goldenmark\nPlac Żołnierza Polskiego 1-1A\, Szczecin\nkurator wystawy: Wojciech Ciesielski \n\nW piątek 1 kwietnia o godzinie 17.30 w szczecińskim Salonie Goldenmark rozpocznie się wernisaż wystawy „BIO-GRAFIE. Patrzenie przez rzeczy”. – W działaniach artystycznych fascynuje mnie ujawnianie obrazów odległych od wizualnych doświadczeń człowieka – podkreśla Paweł Kula. \nPaweł Kula to artysta pracujący głównie na polu bardzo szeroko rozumianej fotografii. Ukończył studia na Akademii Sztuk Pięknych w Poznaniu. Wykładowca Akademii Sztuki w Szczecinie. Współtwórca stowarzyszeń „Oswajanie Sztuki” oraz „Rezerwatu idei”. \nPaweł Kula\nNajważniejszym źródłem artystycznej fascynacji są dla niego wszelkie formy fotografii i nieoczekiwane możliwości z nimi związane. Kula własnoręcznie tworzy własne aparaty\, urządzenia optyczne do fotografowania. Interesują go błędy procesów fotograficznych\, obrazy znalezione i nie dające się utrwalić oraz techniki bez kamerowe. \nJest współtwórcą „solarigrafii” – metody pozwalającej na ekstremalnie długie naświetlanie zdjęć. Jego prace znajdują się w kolekcji „Zachęty Sztuki Współczesnej” oraz w Muzeum Narodowym w Szczecinie. \nBIO–GRAFIE. Patrzenie przez rzeczy. \nPaweł Kula\nWojciech Ciesielski\, kurator wystawy „BIO–GRAFIE. Patrzenie przez rzeczy”\, podkreśla\, że fotografia jest techniką wywodzącą się z nauk optycznych\, a zatem opiera się na zjawiskach związanych ze światłem. \n– To pozornie banalne stwierdzenie niesie ze sobą ogromne konsekwencje\, szczególnie wyraźne\, gdy przyjrzymy się twórczości Pawła Kuli. Zwłaszcza jego ostatniemu cyklowi\, niepozornie zatytułowanemu „Bio-grafie” – zaznacza Wojciech Ciesielski. I dodaje: \n– Światło to zjawisko fizyczne\, fragment promieniowania elektromagnetycznego\, jednocześnie mające niemożliwy do przecenienia wpływ na powstanie i funkcjonowanie życia na naszej planecie. Zjawisko fotosyntezy umożliwiło rozwój życia\, rzeczywistość postrzegamy głównie dzięki światłu wpadającemu do naszych oczu\, cykle dobowe i związane z nimi zachowania roślin i zwierząt podlegają „wędrówce” Słońca po niebie. Te\, wydawałoby się\, oczywiste fakty\, mają fundamentalne znaczenie dla uprawiania fotografii i rozumienia sztuki przez Pawła Kulę. \nJak mówi sam artysta: \n– Wykorzystuję także naturalną światłoczułość – rośliny\, powidoki\, zjawisko fosforescencji. To\, co możemy zobaczyć\, nie jest tożsame z istniejącymi rejestracjami świata – w działaniach artystycznych fascynuje mnie ujawnianie obrazów odległych od wizualnych doświadczeń człowieka. \nKula często wykorzystuje nieoczekiwane materiały światłoczułe: rośliny czy własną skórę. \n– Nowy cykl prac Pawła Kuli to zapisy dokonywane na materiale światłoczułym\, jednakże nie tylko wykonane bez użycia tradycyjnego aparatu. To przede wszystkim wizualne ślady wykonane przez różne obiekty\, swoiste bio-grafie\, odbicia zrealizowane metodą tak bezpośrednią\, że niemal intymną\, jak dotyk skóry. A jednak docierają do nas dzięki światłu\, poprzez oczy. Kolejna z wielkich zagadek natury – dodaje Wojciech Ciesielski. \nWystawę „BIO–GRAFIE. Patrzenie przez rzeczy” można będzie oglądać od 1 kwietnia do 6 maja w szczecińskim salonie sztuki Goldenmark przy placu Żołnierza Polskiego 1-1a. W piątek 1 kwietnia o godzinie 17.30 odbędzie się wernisaż wystawy. Wstęp na wydarzenie jest wolny. \n\nPaweł Kula – wybrane wystawy:\n2006 – Przesilenie / epicentrum / spotkanie\, Muzeum Sztuki Współczesnej\, Szczecin\n2008 – Wszyscy jesteśmy światłoczuli\, Galeria Ventzi\, Szczecin\n2011 – Fotobus\, Centrum Kultury i Sztuki\, Konin\n2011 – Tożsamość Fotografii\, Galeria Kobro\, Łódź\n2012 – S+: solargraphy and other images\, Lume Gallery\, Helsinki\n2013 – Musrara Art Mix Festival\, Jerozolima\n2013 – Light/Dark – remake performance Abramovic i Ulaya (wspólnie z Marią Stafyniak)\, Galeria Scena\, Koszalin\n2013 – Time in a Can\, Fundación Diario\, Madryt\n2013 – Stan Rzeczy przy okazji 8. Biennale Fotografii\, CK Zamek\, Poznań\n2014 – Pole potencjalne\, Galeria Siłownia\, Poznań\n2014 – To\, co możemy zobaczyć\, możemy zobaczyć\, Galeria Scena\, Koszalin\n2014 – Łańcuch wydarzeń\, Muzeum Sztuki Współczesnej\, Szczecin\n2015 – Wyborny trup fotografii polskiej\, Tiff Festival\, Awangarda BWA\, Wrocław\n2015 – Przejścia Graniczne\, Galeria Biała\, Lublin\n2015 – Proximity\, Bangkok Art & Culture Centre\, Bangkok
URL:https://news.niezlasztuka.net/event/pawel-kula-bio-grafie-patrzenie-przez-rzeczy/
ATTACH;FMTTYPE=image/jpeg:https://news.niezlasztuka.net/wp-content/uploads/2022/03/biografie_plakat.jpg
END:VEVENT
END:VCALENDAR