BEGIN:VCALENDAR
VERSION:2.0
PRODID:-//Niezła sztuka - newsy - ECPv5.16.1//NONSGML v1.0//EN
CALSCALE:GREGORIAN
METHOD:PUBLISH
X-WR-CALNAME:Niezła sztuka - newsy
X-ORIGINAL-URL:https://news.niezlasztuka.net
X-WR-CALDESC:Wydarzenia dla Niezła sztuka - newsy
BEGIN:VTIMEZONE
TZID:Europe/Warsaw
BEGIN:DAYLIGHT
TZOFFSETFROM:+0100
TZOFFSETTO:+0200
TZNAME:CEST
DTSTART:20220327T010000
END:DAYLIGHT
BEGIN:STANDARD
TZOFFSETFROM:+0200
TZOFFSETTO:+0100
TZNAME:CET
DTSTART:20221030T010000
END:STANDARD
END:VTIMEZONE
BEGIN:VEVENT
DTSTART;VALUE=DATE:20220319
DTEND;VALUE=DATE:20220801
DTSTAMP:20260421T181837
CREATED:20220505T115640Z
LAST-MODIFIED:20220505T115640Z
UID:18585-1647648000-1659311999@news.niezlasztuka.net
SUMMARY:Rzeczy piękne. Tkaniny Marii Bujakowej
DESCRIPTION:Rzeczy piękne.\n Tkaniny Marii Bujakowej \n19 marca 2022 r. – 31 lipca 2022 r.\n Muzeum Śląska Opolskiego \nWystawa Rzeczy piękne. Tkaniny Marii Bujakowej\nWystawa Rzeczy piękne. Tkaniny Marii Bujakowej to pierwsza od wielu lat\, monograficzna wystawa poświęcona artystce\, zajmującej istotne miejsce w gronie projektantek i twórczyń tkanin drugiej połowy XX wieku. \nUkształtowana pod wpływem myślenia artystów związanych ze sztuką użytkową – Maria Bujakowa – podobnie jak oni\, dążyła do popularyzowania idei piękna na co dzień. W latach 30. XX wieku organizowała prace Spółdzielni Inicjatywa w Warszawie\, była członkinią Spółdzielni Ład\, a po wojnie – dyrektorką szkoły koronkarskiej w Zakopanem i czołową projektantką Zakopiańskich Warsztatów Wzorcowych. \n\n				\n					\n				\n					\n						\n						Wystawa Rzeczy piękne. Tkaniny Marii Bujakowej\n						 \n					\n				\n					\n				\n					\n						\n						Wystawa Rzeczy piękne. Tkaniny Marii Bujakowej\n						 \n					\n\nOstatni raz prace Marii Bujakowej mogliśmy oglądać w 2001 roku na wystawie zorganizowanej przez Muzeum Tatrzańskie w Zakopanem. Ekspozycja miała jeszcze dwie odsłony – w Centralnym Muzeum Włókiennictwa w Łodzi w trakcie 10. Triennale Tkaniny oraz w Muzeum Śląskim w Katowicach. Od tego czasu – a więc od ponad dwóch dekad – jej prace pojawiały się sporadycznie na wystawach zbiorowych. \nNaszą ekspozycję – ze względu na rodzaj prezentowanych obiektów – możemy podzielić na trzy główne części – tkaniny unikatowe\, kilimy wykonywane w Zakopiańskich Warsztatach Wzorcowych oraz projekty. Całość uzupełnią fotografie i dokumenty artystki.
URL:https://news.niezlasztuka.net/event/rzeczy-piekne-tkaniny-marii-bujakowej/
LOCATION:Muzeum Śląska Opolskiego\, ul. św. Wojciecha 13\, Opole\, opolskie\, 45-023\, Polska
ATTACH;FMTTYPE=image/jpeg:https://news.niezlasztuka.net/wp-content/uploads/2022/05/Rzeczy-piekne.jpg
GEO:50.668949;17.924656
X-APPLE-STRUCTURED-LOCATION;VALUE=URI;X-ADDRESS=Muzeum Śląska Opolskiego ul. św. Wojciecha 13 Opole opolskie 45-023 Polska;X-APPLE-RADIUS=500;X-TITLE=ul. św. Wojciecha 13:geo:17.924656,50.668949
END:VEVENT
END:VCALENDAR