BEGIN:VCALENDAR
VERSION:2.0
PRODID:-//Niezła sztuka - newsy - ECPv5.16.1//NONSGML v1.0//EN
CALSCALE:GREGORIAN
METHOD:PUBLISH
X-WR-CALNAME:Niezła sztuka - newsy
X-ORIGINAL-URL:https://news.niezlasztuka.net
X-WR-CALDESC:Wydarzenia dla Niezła sztuka - newsy
BEGIN:VTIMEZONE
TZID:Europe/Warsaw
BEGIN:DAYLIGHT
TZOFFSETFROM:+0100
TZOFFSETTO:+0200
TZNAME:CEST
DTSTART:20200329T010000
END:DAYLIGHT
BEGIN:STANDARD
TZOFFSETFROM:+0200
TZOFFSETTO:+0100
TZNAME:CET
DTSTART:20201025T010000
END:STANDARD
END:VTIMEZONE
BEGIN:VEVENT
DTSTART;VALUE=DATE:20200225
DTEND;VALUE=DATE:20200315
DTSTAMP:20260419T153920
CREATED:20200224T131811Z
LAST-MODIFIED:20200228T134347Z
UID:13050-1582588800-1584230399@news.niezlasztuka.net
SUMMARY:Stanisław Horno-Popławski. Wystawa rzeźb z kolekcji Bydgoskiego Centrum Sztuki
DESCRIPTION:Stanisław Horno-Popławski.\n Wystawa rzeźb z kolekcji Bydgoskiego Centrum Sztuki\n 25.02 – 14.03.2020\nBydgoskie Centrum Sztuki | ul. Jagiellońska 47 \nWięcej informacji » \n \n\nNa wystawie zostanie zaprezentowany fragment kolekcji rzeźb Stanisława Horno-Popławskiego Bydgoskiego Centrum Sztuki. Będzie to okazja\, żeby przyjrzeć się bliżej jego twórczości pomnikowej. Rzeźbom towarzyszyć będą zdjęcia i wycinki prasowe z archiwum artysty. \n\nStanisław Horno-Popławski (1902 – 1997) \nPrzy gipsowym projekcie Pomnika Marii Konopnickiej\, fot. materiały organizatora\nKaukaz\, Moskwa\, Wilno\, Bydgoszcz\, Sopot\, Toruń\, zachodnia Europa – gdziekolwiek był\, tam towarzyszyła mu rzeźba. Urodził się w 1902 r. w Kutaisi – jednym z najstarszych miast Gruzji\, gdzie robił pierwsze kroki ku artystycznej wrażliwości\, ugruntowane później na studiach artystycznych w Moskwie\, warszawskiej Akademii Sztuk Pięknych i podczas studyjnych wyjazdów do Francji i Włoch. Nic nie było w stanie owego dążenia do osiągnięcia rzeźbiarskiego absolutu powstrzymać. Nawet lata okupacji. Horno – aktywny uczestnik kampanii wrześniowej – trafił do Oflagu Woldenberg. Tam też rzeźbił; stworzył sakralne monumenty\, które trafiły do obozowej kapliczki. \nTak jak wędrował w swojej twórczości\, tak i wędrował w życiu: w latach 30. ub. wieku prowadził zajęcia rzeźby na Wydziale Sztuk Pięknych Uniwersytetu Batorego w Wilnie. Po wojnie – i czasie niewoli – trafił do Białegostoku. Zadziwiał wizjami i energią twórczą prowadząc katedrę rzeźby na toruńskim UMK\, by później na lata związać się z Trójmiastem. Tam był głównym projektantem odnawianych kamieniczek Starówki w Gdańsku. Po blisko 30-letnim pobycie na Wybrzeżu przeniósł się do Bydgoszczy\, gdzie władze miejskie zaprosiły go do domu z ogródkiem\, w tutejszym ogrodzie botanicznym. W zamian ofiarował do parku miejskiego kolekcję swych rzeźb\, które niestety skradziono. \nPraczki w Białymstoku\, fot. materiały organizatora\nW Warszawie Hornowskim symbolem jest pomnik Adama Mickiewicza – swoiste art d éco wdzierające się niejako w siermiężny klimat socjalizmu Pałacu Kultury Nauki i Sztuki. Rzeźbiarski Białystok to perfekcyjne Praczki – najbardziej charakterystyczny element miejskich Plantów. Gdzieś w cieniu Praczek kryją się inne dowody geniuszu Horno: Chrystus na ołtarzu głównym\, Matka Boska w ołtarzu zewnętrznym i Chrystus Dobry Pasterz na galerii dziedzińca kościoła św. Rocha. W Słupsku Horno-Popławski pozostawił po sobie pomnik Karola Szymanowskiego\, w Bydgoszczy – monument Henryka Sienkiewicza w parku Jana Kochanowskiego oraz Pomnik Nieznanego Powstańca Wielkopolskiego. \nMistrz dłuta zmarł w 1997 – jako artysta spełniony\, wielokrotnie nagradzany\, powszechnie doceniany za indywidualny styl\, oryginalność\, skłonność do eksperymentów. \n\nFotorelacja z wernisażu: \n\n				\n					\n				\n					\n						\n						fot. Bydgoskie Centrum Sztuki\n						 \n					\n				\n					\n				\n					\n						\n						fot. Bydgoskie Centrum Sztuki\n						 \n					\n				\n					\n				\n					\n						\n						fot. Bydgoskie Centrum Sztuki\n						 \n					\n\n\n				\n					\n				\n					\n						\n						fot. Bydgoskie Centrum Sztuki\n						 \n					\n				\n					\n				\n					\n						\n						fot. Bydgoskie Centrum Sztuki
URL:https://news.niezlasztuka.net/event/stanislaw-horno-poplawski-wystawa-rzezb-bydgoskie-centrum-sztuki/
LOCATION:Polska
ATTACH;FMTTYPE=image/jpeg:https://news.niezlasztuka.net/wp-content/uploads/2020/02/bcs-horno1.jpg
END:VEVENT
END:VCALENDAR