BEGIN:VCALENDAR
VERSION:2.0
PRODID:-//Niezła sztuka - newsy - ECPv5.16.1//NONSGML v1.0//EN
CALSCALE:GREGORIAN
METHOD:PUBLISH
X-WR-CALNAME:Niezła sztuka - newsy
X-ORIGINAL-URL:https://news.niezlasztuka.net
X-WR-CALDESC:Wydarzenia dla Niezła sztuka - newsy
BEGIN:VTIMEZONE
TZID:Europe/Warsaw
BEGIN:DAYLIGHT
TZOFFSETFROM:+0100
TZOFFSETTO:+0200
TZNAME:CEST
DTSTART:20210328T010000
END:DAYLIGHT
BEGIN:STANDARD
TZOFFSETFROM:+0200
TZOFFSETTO:+0100
TZNAME:CET
DTSTART:20211031T010000
END:STANDARD
END:VTIMEZONE
BEGIN:VEVENT
DTSTART;VALUE=DATE:20210724
DTEND;VALUE=DATE:20210725
DTSTAMP:20260419T222236
CREATED:20210724T153358Z
LAST-MODIFIED:20210724T153358Z
UID:16532-1627084800-1627171199@news.niezlasztuka.net
SUMMARY:Stettin/Szczecin – jedna historia. Sztuka XIX i XX wieku ze zbiorów Muzeum Narodowego w Szczecinie
DESCRIPTION:Stettin/Szczecin – jedna historia.\n Sztuka XIX i XX wieku ze zbiorów Muzeum Narodowego w Szczecinie \n04 czerwca 2021 r. – 14 listopada 2021 r.\n Muzeum Narodowe w Szczecinie\n Kuratorka: Beata Małgorzata Wolska\n_______________________________________________________________ \nJan Stanisławski\,  Pejzaż wiejski | ok. 1900\, Muzeum Narodowe w Szczecinie\nCzy Stettin i Szczecin to jedno miasto? \nChociaż właściwszym pytaniem jest to\, czy historia Stettina i historia Szczecina to historia jednego czy dwóch odrębnych miast? Na oba człony tego pytania można odpowiedzieć twierdząco: tak\, to jedno miasto\, bo pamięć przeszłości miasta w coraz mniejszym stopniu dzieli historyków Stettina-Szczecina; oraz: tak\, to dwa odrębne miasta\, pomiędzy którymi ci sami historycy dość zgodnie gotowi są wskazać oczywisty punkt nieciągłości. A dotyczy to tyleż badaczy stettińskich-szczecińskich dziejów\, co sztuki. \nJacek Malczewski\, Moja dusza (Autoportret z dwiema siedzącymi kobietami) | 1918 r.\, Muzeum Narodowe w Szczecinie\nJeśli spojrzeć okiem nawet nie znawcy\, ale miłośnika sztuki na prezentowany tu przegląd kolekcji Muzeum Narodowego w Szczecinie\, łatwo jest te nieciągłości – te luki\, miejsca puste i prowokujące niewygodne pytania – wskazać. Na przykład takie: skoro zgadzamy się\, uznajemy i celebrujemy już dziś w sposób nieskrępowany to\, że miasto było niemieckie\, to dlaczego tak mało tu obiektów niemieckich? \nJózef Chełmoński\, Jarmark. Sprzedaż konia | 1888\, Muzeum Narodowe w Szczecinie\nChoć niewygodne\, nie warto jednak chyba takich pytań przemilczać\, unikać czy – tym bardziej! – zakrzykiwać. Lepiej je głośno stawiać\, bo może to one właśnie stanowią istotę kolekcji\, skupiają uwagę na szczelinach\, z których przebija się pełna historia muzeum i miasta – niełatwa\, złożona\, pełna wyrw\, braków i związanych z nimi doświadczeń\, zarówno artystów\, osób współtworzących historie instytucji\, jak i pozostałych mieszkańców. To sprawiło\, że istotą wystawy stała się chęć uchwycenia tego\, co bywa często niewidoczne\, ponieważ nie ukazuje spójnej wersji wielkiej narracji o mieście. Dlatego też postanowiliśmy wprowadzić w losy zarówno niemieckiego i polskiego miasta oraz muzeum\, jak i związanej z nim sztuki. \nWłodzimierz Tetmajer\, Polski: Zrękowiny (Zaręczyny) | 1861\, fot. Muzeum Narodowe w Szczecinie\nNa kolekcję bowiem należy spoglądać\, mając w pamięci zawiłości dziejowe miasta. W związku z tym podstawowym celem przyświecającym twórcom wystawy była potrzeba stworzenia opowieści o jednym Stettinie/Szczecinie – tym przed- i powojennym\, takim\, który łączy polską i niemiecką historię miasta w jedną\, acz złożoną z niezliczonych doświadczeń całość. Do jego realizacji wykorzystano wybór niemieckich i polskich dzieł z XIX i XX wieku. Stanowi on dobrą reprezentację szczecińskiej kolekcji\, bowiem obejmuje te okoliczności\, które najlepiej oddają kluczowe meandry historii miasta\, a co za tym też idzie – muzeum. Proponowana ekspozycja to obraz drogi prowadzącej do zgody na myślenie o Szczecinie jako polskim mieście z niemiecką przeszłością (i współczesnością).
URL:https://news.niezlasztuka.net/event/stettinszczecin-jedna-historia-sztuka-xix-xx-wieku-ze-zbiorow-muzeum-narodowego-szczecinie/
LOCATION:Polska
ATTACH;FMTTYPE=image/jpeg:https://news.niezlasztuka.net/wp-content/uploads/2021/07/naglowek_pronaszko.jpg
END:VEVENT
END:VCALENDAR