BEGIN:VCALENDAR
VERSION:2.0
PRODID:-//Niezła sztuka - newsy - ECPv5.16.1//NONSGML v1.0//EN
CALSCALE:GREGORIAN
METHOD:PUBLISH
X-WR-CALNAME:Niezła sztuka - newsy
X-ORIGINAL-URL:https://news.niezlasztuka.net
X-WR-CALDESC:Wydarzenia dla Niezła sztuka - newsy
BEGIN:VTIMEZONE
TZID:Europe/Warsaw
BEGIN:DAYLIGHT
TZOFFSETFROM:+0100
TZOFFSETTO:+0200
TZNAME:CEST
DTSTART:20220327T010000
END:DAYLIGHT
BEGIN:STANDARD
TZOFFSETFROM:+0200
TZOFFSETTO:+0100
TZNAME:CET
DTSTART:20221030T010000
END:STANDARD
END:VTIMEZONE
BEGIN:VEVENT
DTSTART;VALUE=DATE:20220520
DTEND;VALUE=DATE:20220627
DTSTAMP:20260421T042504
CREATED:20220527T162334Z
LAST-MODIFIED:20220527T162334Z
UID:18840-1653004800-1656287999@news.niezlasztuka.net
SUMMARY:WRLD(S). Wystawa na Triennale Rysunku Wrocław 2022
DESCRIPTION:WRLD(S).\n Wystawa na Triennale Rysunku Wrocław 2022 \n20 maja 2022 r. – 26 czerwca 2022 r/\n BWA Wrocław\n Kurator: Honza Zamojski \nWystawa WRLD(S). Wystawa na Triennale Rysunku Wrocław 2022\nHonza Zamojski\, artysta sztuk wizualnych\, twórca instalacji\, autor artbooków\, a w tym wypadku kurator ekspozycji „WRLD(S)” proponuje intrygujący koncept wystawy. Jest on ściśle związany z architekturą galerii BWA Wrocław Główny i jej dwoma skrzydłami przestrzeni wystawienniczej. Jedną część zajmuje świat jasny\, drugą – ciemny. Nie są to opozycje. Jasność i ciemność sal niczego nie symbolizują. Nie ustawiają się też na przeciwnych biegunach dyskusji. Oba światy są różne\, lecz o podobnych parametrach i skomponowane według podobnych zasad. W każdym ze skrzydeł galerii ci sami artyści i artystki zaprezentują prace w tożsamych punktach przestrzeni poszczególnych sal. \nRóżnice i podobieństwa pomiędzy światami widać dopiero poprzez drobne przesunięcia znaczeniowe i kontrasty. Czasem są to kontrasty wynikające z treści prac\, innym razem – z formy. Niektóre realizacje igrają z iluzją lustrzanego odbicia\, pewne z pojęciami negatywu i pozytywu. \nGdzie w tym wszystkim jest rysunek? – zauważa Zamojski. – Rysunek pojawia się zawsze tam\, gdzie brakuje słów jako uniwersalna metoda komunikacji. Rysunek reaguje natychmiast\, trafnie komentując i jest ekonomicznie egalitarny – w końcu wystarczy ołówek i kawałek kartki\, aby coś narysować\, coś napisać\, coś zakomunikować. \nNa wystawie rysunek jest więc prezentowany pod każdą postacią\, pozycjonując się często jako punkt styczny w komunikacji pomiędzy różnymi i równoległymi światami. W oderwaniu od ciężaru rozwiązań formalnych staje się słowem\, emocją oraz emancypacją. \nArtyści/stki: Uri Aran\, Zuza Golińska\, Koji Kamoji\, Bety Krňanská\, David Krňanský\, Hanna Krzysztofiak\, Przemek Matecki\, Zdzisław Nitka\, Julia Scher\, Aleksandra Ska\, Daniel Stachowski\, Juliusz Studnicki\, Andrzej Szewczyk\, Marcin Wicha + Marian Misiak\, Zbiorowy
URL:https://news.niezlasztuka.net/event/w%f0%9f%98%b5rlds-wystawa-triennale-rysunku-wroclaw-2022/
LOCATION:Polska
ATTACH;FMTTYPE=image/png:https://news.niezlasztuka.net/wp-content/uploads/2022/05/bwa-wroclaw-wrlds-wystawa-na-triennale-rysunku-wroclaw-2022.png
END:VEVENT
END:VCALENDAR