BEGIN:VCALENDAR
VERSION:2.0
PRODID:-//Niezła sztuka - newsy - ECPv5.16.1//NONSGML v1.0//EN
CALSCALE:GREGORIAN
METHOD:PUBLISH
X-WR-CALNAME:Niezła sztuka - newsy
X-ORIGINAL-URL:https://news.niezlasztuka.net
X-WR-CALDESC:Wydarzenia dla Niezła sztuka - newsy
BEGIN:VTIMEZONE
TZID:Europe/Warsaw
BEGIN:DAYLIGHT
TZOFFSETFROM:+0100
TZOFFSETTO:+0200
TZNAME:CEST
DTSTART:20260329T010000
END:DAYLIGHT
BEGIN:STANDARD
TZOFFSETFROM:+0200
TZOFFSETTO:+0100
TZNAME:CET
DTSTART:20261025T010000
END:STANDARD
END:VTIMEZONE
BEGIN:VEVENT
DTSTART;VALUE=DATE:20260424
DTEND;VALUE=DATE:20261005
DTSTAMP:20260422T172107
CREATED:20260422T104910Z
LAST-MODIFIED:20260422T105406Z
UID:27641-1776988800-1791158399@news.niezlasztuka.net
SUMMARY:Wkrótce wszystko się zmieni
DESCRIPTION:Prace Joanny Rajkowskiej\, jednej z najważniejszych współczesnych artystek\, pojawią się w Zamku Królewskim na Wawelu.   \nW malowniczej scenerii Ogrodów Królewskich i dziedzińca zewnętrznego będzie można odkryć trzy niezwykłe instalacje: monumentalne\, tętniące życiem błękitne jajo kosa zwyczajnego – Pisklę\, autentyczne wronie Gniazdo oraz geodę Wkrótce wszystko się zmieni – wypełnioną ametystami\, sięgającą „czasu głębokiego”.  \n \nJoanna Rajkowska to jedna z najważniejszych i najbardziej wyrazistych postaci polskiej sztuki współczesnej\, znana z projektów\, które trwale zmieniają tkankę miast i naszą wrażliwość. Jej twórczość\, doceniana na całym świecie\, redefiniuje przestrzeń publiczną\, skłaniając do głębokiej refleksji nad relacją człowieka z naturą i historią.\nTa niezwykła wystawa angażuje zmysły i zaprasza do doświadczania Wzgórza Wawelskiego w zupełnie nowym tempie:  \nPisklę. Kos zwyczajny – monumentalne\, błękitne jajo kosa zwyczajnego o imponujących wymiarach 240 na 160 centymetrów\, zaprasza\, by podejść do niego bez lęku i po prostu położyć na nim dłoń. Jego gładka\, chłodna powierzchnia kontrastuje z tym\, co dzieje się w środku: pulsującą energią narodzin. Wystarczy przyłożyć ucho\, by usłyszeć subtelne wibracje\, delikatne drżenie skorupy\, rytmiczne bicie serca wykluwającego się ptaka. To intymne spotkanie z początkiem życia – powiększone do skali\, która pozwala nam na chwilę stać się świadkami cudu zwykle ukrytego przed ludzkim wzrokiem.  \nGniazdo – część projektu Pozdrowienia z Alej Jerozolimskich – jest autentycznym gniazdem zbudowanym przez wrony siwe na szczycie słynnej palmy Pozdrowienia z Alej Jerozolimskich  Przez lata ptaki traktowały sztuczną palmę jak pełnoprawny element miejskiego ekosystemu\, jakby nie dostrzegały jej konceptualnego rodowodu ani nieco ironicznej genezy. Gniazdo\, przeniesione dziś do ogrodów Wawelu\, staje się materialnym świadectwem tej niezwykłej symbiozy: natury\, która nie pyta o intencje artystki\, i miasta\, które nieustannie negocjuje własną tożsamość. Przypomina\, że nawet najbardziej sztuczne konstrukcje mogą zostać opanowane przez życie\, a to\, co miało być chwilową interwencją artystyczną\, potrafi przeobrazić się w pełnoprawny fragment miejskiej tkanki.  \nWkrótce wszystko się zmieni – pod tym tajemniczym tytułem kryje się geoda wypełniona ametystami\, umieszczona w strukturze ziemi\, w bezpośrednim sąsiedztwie rezerwatu archeologicznego Zamku Królewskiego na Wawelu. Obiekt ukształtowany w procesach geologicznych trwających miliony lat kieruje uwagę ku „czasowi głębokiemu” – niemal niewyobrażalnemu\, a zarazem obecnemu w materii. \nDziała jak portal\, przez który można zajrzeć kilka milionów lat w przeszłość. Przypomina o potężnych procesach\, które kształtowały tę ziemię na długo przed pojawieniem się człowieka\, i które będą trwały bez względu na to\, jak potoczy się historia ludzkości. To subtelna lekcja pokory wobec sił\, które nieustannie modelują świat. Minerał staje się pretekstem do pomyślenia o czasie\, w którym podstawową jednostką jest stulecie\, a nie godzina. \nZamek Królewski na Wawelu staje się miejscem żywego dialogu\, gdzie dawne dzieje spotykają się ze współczesną myślą artystyczną. Prace Joanny Rajkowskiej pozwalają na chwilę zatrzymania i wsłuchania się w to\, co zwykle pomijane. To spacer\, który zmienia perspektywę i otwiera nas na to\, co fundamentalne – na relację między człowiekiem\, materią a środowiskiem.  \nOdkryj Wawel\, jakiego nie znasz. Zapraszamy! \nKuratorka: dr Bogumiła Wiśniewska
URL:https://news.niezlasztuka.net/event/wkrotce-wszystko-sie-zmieni/
LOCATION:Zamek Królewski na Wawelu\, Wawel 5\, Kraków\, Małopolskie\, 31-001\, Polska
CATEGORIES:wystawa
ATTACH;FMTTYPE=image/jpeg:https://news.niezlasztuka.net/wp-content/uploads/2026/04/wawel-rajkowska.jpg
GEO:50.05416;19.935439
X-APPLE-STRUCTURED-LOCATION;VALUE=URI;X-ADDRESS=Zamek Królewski na Wawelu Wawel 5 Kraków Małopolskie 31-001 Polska;X-APPLE-RADIUS=500;X-TITLE=Wawel 5:geo:19.935439,50.05416
END:VEVENT
END:VCALENDAR