BEGIN:VCALENDAR
VERSION:2.0
PRODID:-//Niezła sztuka - newsy - ECPv5.16.1//NONSGML v1.0//EN
CALSCALE:GREGORIAN
METHOD:PUBLISH
X-WR-CALNAME:Niezła sztuka - newsy
X-ORIGINAL-URL:https://news.niezlasztuka.net
X-WR-CALDESC:Wydarzenia dla Niezła sztuka - newsy
BEGIN:VTIMEZONE
TZID:Europe/Warsaw
BEGIN:DAYLIGHT
TZOFFSETFROM:+0100
TZOFFSETTO:+0200
TZNAME:CEST
DTSTART:20210328T010000
END:DAYLIGHT
BEGIN:STANDARD
TZOFFSETFROM:+0200
TZOFFSETTO:+0100
TZNAME:CET
DTSTART:20211031T010000
END:STANDARD
END:VTIMEZONE
BEGIN:VEVENT
DTSTART;VALUE=DATE:20210725
DTEND;VALUE=DATE:20210830
DTSTAMP:20260419T220159
CREATED:20210814T113610Z
LAST-MODIFIED:20210814T113610Z
UID:16620-1627171200-1630281599@news.niezlasztuka.net
SUMMARY:Z miłości i wiatru
DESCRIPTION:Z miłości i wiatru \n25 lipca 2021 r. – 29 sierpnia 2021 r.\n Miejska Galeria Sztuki w Częstochowie |\n Sale Śląska\, Poplenerowa\, Gobelinowa\n Kurator: Anna Paleczek-Szumlas \nWystawa Z miłości i wiatru\nWystawa prezentująca dzieła różnych artystów – Ludwika Maciąga\, Rafała Olbińskiego\, Piotra Naliwajko\, Bogusława Lustyka\, Daniela Pieluchy\, Leszka Żegalskiego\, Jana Norberta Dubrowina\, Stanisława Chomiczewskiego\, Leszka Jampolskiego\, Janusza Szpyta\, Anny Wysockiej\, Patrycji Dubiel\, Tomasza Górnickiego oraz artystów środowiska częstochowskiego: Zdzisława Wiatra\, Jerzego Filipa Sztuki\, Jacka Sztuki\, Małgorzaty Świertok\, Jerzego Kędziory\, Rafała Cierpiała – zbudowana wokół wystawy twórczości Zofii Raczkowskiej. \nRóżnorodność technik i sposobów wykonania prezentowanych dzieł – fotograficznych\, malarskich\, graficznych i rzeźbiarskich – pozwala na szerokie ujęcie głównego tematu wystawy. A jest nim figura konia pokazanego w sposób realistyczny\, a zarazem symboliczny\, jako jeden z motywów polskości. Mimo że dziś koń raczej zniknął z naszego krajobrazu\, pozostał inspiracją dla artystów i jest zdolny poruszyć wyobraźnię każdego Polaka. \nWystawa Z miłości i wiatru\nPierwszą część ekspozycji\, prezentowaną w sali Śląskiej MGS\, stanowią obrazy zmarłego niedawno wybitnego pejzażysty i batalisty prof. Ludwika Maciąga\, dla którego konie były najważniejszą częścią zarówno życia jaki i twórczości. W sali Poplenerowej zobaczymy wystawę Zofii Raczkowskiej\, artystki fotograf\, która wyspecjalizowała się w niezwykle wąskiej dziedzinie fotografii – robiąc zdjęcia koni. I doszła w niej do perfekcji… \n\n				\n					\n				\n					\n						\n						Wystawa Z miłości i wiatru\n\n						 \n					\n				\n					\n				\n					\n						\n						Wystawa Z miłości i wiatru\n						 \n					\n\nWystawa „Z miłości i wiatru” jest działaniem artystycznym o wielu walorach artystycznych i edukacyjnych. Wśród odwiedzających\, a szczególnie dzieci i młodzieży szerzyć będzie wiedzę o polskiej historii\, kulturze i sztuce. Pozwoli rozwinąć dyskusję związaną z historią Polski\, jak również z działaniami związanymi z naturą.
URL:https://news.niezlasztuka.net/event/z-milosci-i-wiatru/
LOCATION:Polska
ATTACH;FMTTYPE=image/jpeg:https://news.niezlasztuka.net/wp-content/uploads/2021/08/Z-miłości-i-wiatru-plakat.jpg
END:VEVENT
END:VCALENDAR